BEGIN:VCALENDAR
VERSION:2.0
PRODID:-//Tennis Club de Mably - ECPv6.15.20//NONSGML v1.0//EN
CALSCALE:GREGORIAN
METHOD:PUBLISH
X-WR-CALNAME:Tennis Club de Mably
X-ORIGINAL-URL:https://www.tcmably.com
X-WR-CALDESC:Évènements pour Tennis Club de Mably
REFRESH-INTERVAL;VALUE=DURATION:PT1H
X-Robots-Tag:noindex
X-PUBLISHED-TTL:PT1H
BEGIN:VTIMEZONE
TZID:Europe/Paris
BEGIN:DAYLIGHT
TZOFFSETFROM:+0100
TZOFFSETTO:+0200
TZNAME:CEST
DTSTART:20230326T010000
END:DAYLIGHT
BEGIN:STANDARD
TZOFFSETFROM:+0200
TZOFFSETTO:+0100
TZNAME:CET
DTSTART:20231029T010000
END:STANDARD
BEGIN:DAYLIGHT
TZOFFSETFROM:+0100
TZOFFSETTO:+0200
TZNAME:CEST
DTSTART:20240331T010000
END:DAYLIGHT
BEGIN:STANDARD
TZOFFSETFROM:+0200
TZOFFSETTO:+0100
TZNAME:CET
DTSTART:20241027T010000
END:STANDARD
BEGIN:DAYLIGHT
TZOFFSETFROM:+0100
TZOFFSETTO:+0200
TZNAME:CEST
DTSTART:20250330T010000
END:DAYLIGHT
BEGIN:STANDARD
TZOFFSETFROM:+0200
TZOFFSETTO:+0100
TZNAME:CET
DTSTART:20251026T010000
END:STANDARD
END:VTIMEZONE
BEGIN:VEVENT
DTSTART;TZID=Europe/Paris:20240210T180000
DTEND;TZID=Europe/Paris:20240210T233000
DTSTAMP:20260426T024734
CREATED:20240117T101706Z
LAST-MODIFIED:20240117T101706Z
UID:12600-1707588000-1707607800@www.tcmably.com
SUMMARY:SOIREE CONVIVIALE TARTIFLETTE JEUX DE SOCIETE
DESCRIPTION:
URL:https://www.tcmably.com/agenda/soiree-conviviale-tartiflette-jeux-de-societe/
CATEGORIES:Actualités,Animation
ATTACH;FMTTYPE=image/png:https://www.tcmably.com/wp-content/uploads/2024/01/Soiree-tartiflette.png
END:VEVENT
END:VCALENDAR